BEGIN:VCALENDAR
VERSION:2.0
PRODID:-//Kalamazoo Nonprofit Advocacy Coalition - ECPv6.15.20//NONSGML v1.0//EN
CALSCALE:GREGORIAN
METHOD:PUBLISH
X-WR-CALNAME:Kalamazoo Nonprofit Advocacy Coalition
X-ORIGINAL-URL:https://knac1853.org
X-WR-CALDESC:Events for Kalamazoo Nonprofit Advocacy Coalition
REFRESH-INTERVAL;VALUE=DURATION:PT1H
X-Robots-Tag:noindex
X-PUBLISHED-TTL:PT1H
BEGIN:VTIMEZONE
TZID:America/Detroit
BEGIN:DAYLIGHT
TZOFFSETFROM:-0500
TZOFFSETTO:-0400
TZNAME:EDT
DTSTART:20220313T070000
END:DAYLIGHT
BEGIN:STANDARD
TZOFFSETFROM:-0400
TZOFFSETTO:-0500
TZNAME:EST
DTSTART:20221106T060000
END:STANDARD
BEGIN:DAYLIGHT
TZOFFSETFROM:-0500
TZOFFSETTO:-0400
TZNAME:EDT
DTSTART:20230312T070000
END:DAYLIGHT
BEGIN:STANDARD
TZOFFSETFROM:-0400
TZOFFSETTO:-0500
TZNAME:EST
DTSTART:20231105T060000
END:STANDARD
BEGIN:DAYLIGHT
TZOFFSETFROM:-0500
TZOFFSETTO:-0400
TZNAME:EDT
DTSTART:20240310T070000
END:DAYLIGHT
BEGIN:STANDARD
TZOFFSETFROM:-0400
TZOFFSETTO:-0500
TZNAME:EST
DTSTART:20241103T060000
END:STANDARD
END:VTIMEZONE
BEGIN:VEVENT
DTSTART;TZID=America/Detroit:20231021T193000
DTEND;TZID=America/Detroit:20231021T210000
DTSTAMP:20260419T114335
CREATED:20230913T184151Z
LAST-MODIFIED:20230913T184151Z
UID:1518-1697916600-1697922000@knac1853.org
SUMMARY:Blunder Bus Performance
DESCRIPTION:
URL:https://knac1853.org/event/blunder-bus-performance-2/
LOCATION:MI
END:VEVENT
BEGIN:VEVENT
DTSTART;TZID=America/Detroit:20231020T193000
DTEND;TZID=America/Detroit:20231020T210000
DTSTAMP:20260419T114335
CREATED:20230913T184030Z
LAST-MODIFIED:20230913T184030Z
UID:1515-1697830200-1697835600@knac1853.org
SUMMARY:Spin Cycle Show
DESCRIPTION:John Stites Jazz Award\, Jazz in the Crawlspace series.
URL:https://knac1853.org/event/spin-cycle-show/
LOCATION:Crawlspace Comedy Theatre @ KNAC\, 315 W. Michigan Ave\, Kalamazoo\, MI\, 49007\, United States
END:VEVENT
BEGIN:VEVENT
DTSTART;TZID=America/Detroit:20231017T183000
DTEND;TZID=America/Detroit:20231017T203000
DTSTAMP:20260419T114335
CREATED:20230714T161323Z
LAST-MODIFIED:20230714T161323Z
UID:1460-1697567400-1697574600@knac1853.org
SUMMARY:Beth Keller Presents:  Intro to Parenting with Positive Discipline (6 week course)
DESCRIPTION:
URL:https://knac1853.org/event/beth-keller-presents-intro-to-parenting-with-positive-discipline-6-week-course-4/
LOCATION:Kalamazoo Nonprofit Advocacy Coalition\, 315 W. Michigan Avenue\, Kalamazoo\, MI\, 49007\, United States
END:VEVENT
BEGIN:VEVENT
DTSTART;TZID=America/Detroit:20231014T193000
DTEND;TZID=America/Detroit:20231014T210000
DTSTAMP:20260419T114335
CREATED:20230913T183737Z
LAST-MODIFIED:20230913T183737Z
UID:1513-1697311800-1697317200@knac1853.org
SUMMARY:Oh Hey!
DESCRIPTION:Tanja Rowland (Family Secret) and Sara Fish (Small Victories) join forces as the delicious duo\, Oh Hey!
URL:https://knac1853.org/event/oh-hey/
LOCATION:Crawlspace Comedy Theatre @ KNAC\, 315 W. Michigan Ave\, Kalamazoo\, MI\, 49007\, United States
END:VEVENT
BEGIN:VEVENT
DTSTART;TZID=America/Detroit:20231012T200000
DTEND;TZID=America/Detroit:20231012T213000
DTSTAMP:20260419T114335
CREATED:20230913T183436Z
LAST-MODIFIED:20230913T183436Z
UID:1511-1697140800-1697146200@knac1853.org
SUMMARY:Liz Townsend Album Release:  Along The Way
DESCRIPTION:Kalamazoo’s own Liz Townsend will perform music from her debut album\, Along the Way. Rooted in the jazz style\, this concert will feature some of Liz’s original music along with many beloved jazz standards. Joining her on the stage will be Grayson Nye (piano)\, Ben Crino (guitar)\, Carlo De Rosa (bass)\, and Drew Deur (drums).
URL:https://knac1853.org/event/liz-townsend-album-release-along-the-way/
LOCATION:Crawlspace Comedy Theatre @ KNAC\, 315 W. Michigan Ave\, Kalamazoo\, MI\, 49007\, United States
END:VEVENT
BEGIN:VEVENT
DTSTART;TZID=America/Detroit:20231010T183000
DTEND;TZID=America/Detroit:20231010T203000
DTSTAMP:20260419T114335
CREATED:20230714T161222Z
LAST-MODIFIED:20230714T161222Z
UID:1458-1696962600-1696969800@knac1853.org
SUMMARY:Beth Keller Presents:  Intro to Parenting with Positive Discipline (6 week course)
DESCRIPTION:
URL:https://knac1853.org/event/beth-keller-presents-intro-to-parenting-with-positive-discipline-6-week-course-3/
LOCATION:Kalamazoo Nonprofit Advocacy Coalition\, 315 W. Michigan Avenue\, Kalamazoo\, MI\, 49007\, United States
END:VEVENT
BEGIN:VEVENT
DTSTART;TZID=America/Detroit:20231007T193000
DTEND;TZID=America/Detroit:20231007T210000
DTSTAMP:20260419T114335
CREATED:20230913T183028Z
LAST-MODIFIED:20230913T183028Z
UID:1509-1696707000-1696712400@knac1853.org
SUMMARY:Riddled With English
DESCRIPTION:
URL:https://knac1853.org/event/riddled-with-english/
LOCATION:Crawlspace Comedy Theatre @ KNAC\, 315 W. Michigan Ave\, Kalamazoo\, MI\, 49007\, United States
END:VEVENT
BEGIN:VEVENT
DTSTART;TZID=America/Detroit:20231003T183000
DTEND;TZID=America/Detroit:20231003T203000
DTSTAMP:20260419T114335
CREATED:20230714T161105Z
LAST-MODIFIED:20230714T161105Z
UID:1456-1696357800-1696365000@knac1853.org
SUMMARY:Beth Keller Presents:  Intro to Parenting with Positive Discipline (6 week course)
DESCRIPTION:
URL:https://knac1853.org/event/beth-keller-presents-intro-to-parenting-with-positive-discipline-6-week-course-2/
LOCATION:Kalamazoo Nonprofit Advocacy Coalition\, 315 W. Michigan Avenue\, Kalamazoo\, MI\, 49007\, United States
END:VEVENT
BEGIN:VEVENT
DTSTART;TZID=America/Detroit:20230930T153000
DTEND;TZID=America/Detroit:20230930T163000
DTSTAMP:20260419T114335
CREATED:20230913T182733Z
LAST-MODIFIED:20230913T182733Z
UID:1506-1696087800-1696091400@knac1853.org
SUMMARY:Sounds of the Zoo Blues Guitar Workshop
DESCRIPTION:WORKSHOP: \nKVBA( Kalamazoo Valley Blues Association) and Joe Chamberlin of FlyLiteGemini presents a workshop of an introduction to Blues Guitar \nLOCATION: Crawlspace rehearsal room at KNAC \nTIME: 3:30-4:30pm
URL:https://knac1853.org/event/sounds-of-the-zoo-blues-guitar-workshop/
LOCATION:Crawlspace Rehearsal  Room\, 315 W. Michigan Ave\, Kalamazoo\, MI\, 49007\, United States
END:VEVENT
BEGIN:VEVENT
DTSTART;TZID=America/Detroit:20230930T133000
DTEND;TZID=America/Detroit:20230930T153000
DTSTAMP:20260419T114335
CREATED:20230913T182342Z
LAST-MODIFIED:20230913T182342Z
UID:1504-1696080600-1696087800@knac1853.org
SUMMARY:Sounds of the Zoo Whorled Performance
DESCRIPTION:PERFORMERS: \n1:30-2:00pm/Michigan Hiryu Daiko (Kzoo’s Japanese taiko drumming ensemble\, directed by Carolyn Koebel) \n2:00-3:30pm/Whorled
URL:https://knac1853.org/event/sounds-of-the-zoo-whorled-performance/
LOCATION:Crawlspace Comedy Theatre @ KNAC\, 315 W. Michigan Ave\, Kalamazoo\, MI\, 49007\, United States
END:VEVENT
BEGIN:VEVENT
DTSTART;TZID=America/Detroit:20230929T180000
DTEND;TZID=America/Detroit:20230929T210000
DTSTAMP:20260419T114335
CREATED:20230913T182044Z
LAST-MODIFIED:20230913T182044Z
UID:1502-1696010400-1696021200@knac1853.org
SUMMARY:Blunder Bus Performance
DESCRIPTION:
URL:https://knac1853.org/event/blunder-bus-performance/
LOCATION:Crawlspace Comedy Theatre @ KNAC\, 315 W. Michigan Ave\, Kalamazoo\, MI\, 49007\, United States
END:VEVENT
BEGIN:VEVENT
DTSTART;TZID=America/Detroit:20230928T180000
DTEND;TZID=America/Detroit:20230928T220000
DTSTAMP:20260419T114335
CREATED:20230913T181835Z
LAST-MODIFIED:20230913T181835Z
UID:1499-1695924000-1695938400@knac1853.org
SUMMARY:Jazz with Sounds of the Zoo
DESCRIPTION:Sounds of the Zoo presents Pocket Watch\, The Caelan Cardello Trio and Jenna Mammina with Keith Hall in Collaboration with Edison Jazz Festival\, The Gilmore\, Crawlspace and KNAC DOORS: 5:30pm \nTIME: 6:00-10:00pm \nPERFORMERS: \n6:00-7:00pm/Pocket Watch \n7:15-8:15pm/The Caelan Cardello Trio *Caelan Cardello\, Lucas LaFave\, Josiah DeNooyer \n8:30-10:00pm/Jenna Mammina with Matthew Fries\, Keith Hall\, and Carlo De Rosa
URL:https://knac1853.org/event/jazz-with-sounds-of-the-zoo/
LOCATION:Crawlspace Comedy Theatre @ KNAC\, 315 W. Michigan Ave\, Kalamazoo\, MI\, 49007\, United States
END:VEVENT
BEGIN:VEVENT
DTSTART;TZID=America/Detroit:20230926T190000
DTEND;TZID=America/Detroit:20230926T210000
DTSTAMP:20260419T114335
CREATED:20230714T155238Z
LAST-MODIFIED:20230714T155238Z
UID:1438-1695754800-1695762000@knac1853.org
SUMMARY:All Ears Theatre Auditions for Zorro & Three Little Pigs
DESCRIPTION:
URL:https://knac1853.org/event/all-ears-theatre-auditions-for-zorro-three-little-pigs-2/
LOCATION:Crawlspace Comedy Theatre @ KNAC\, 315 W. Michigan Ave\, Kalamazoo\, MI\, 49007\, United States
ORGANIZER;CN="All Ears Theatre":MAILTO:laura@allearstheatre.org
END:VEVENT
BEGIN:VEVENT
DTSTART;TZID=America/Detroit:20230926T183000
DTEND;TZID=America/Detroit:20230926T203000
DTSTAMP:20260419T114335
CREATED:20230714T160941Z
LAST-MODIFIED:20230714T160941Z
UID:1454-1695753000-1695760200@knac1853.org
SUMMARY:Beth Keller Presents:  Intro to Parenting with Positive Discipline (6 week course)
DESCRIPTION:
URL:https://knac1853.org/event/beth-keller-presents-intro-to-parenting-with-positive-discipline-6-week-course/
LOCATION:Kalamazoo Nonprofit Advocacy Coalition\, 315 W. Michigan Avenue\, Kalamazoo\, MI\, 49007\, United States
END:VEVENT
BEGIN:VEVENT
DTSTART;TZID=America/Detroit:20230925T190000
DTEND;TZID=America/Detroit:20230925T210000
DTSTAMP:20260419T114335
CREATED:20230714T155131Z
LAST-MODIFIED:20230714T155131Z
UID:1436-1695668400-1695675600@knac1853.org
SUMMARY:All Ears Theatre Auditions for Zorro & Three Little Pigs
DESCRIPTION:
URL:https://knac1853.org/event/all-ears-theatre-auditions-for-zorro-three-little-pigs/
LOCATION:Crawlspace Comedy Theatre @ KNAC\, 315 W. Michigan Ave\, Kalamazoo\, MI\, 49007\, United States
ORGANIZER;CN="All Ears Theatre":MAILTO:laura@allearstheatre.org
END:VEVENT
BEGIN:VEVENT
DTSTART;TZID=America/Detroit:20230923T193000
DTEND;TZID=America/Detroit:20230923T210000
DTSTAMP:20260419T114335
CREATED:20230913T180959Z
LAST-MODIFIED:20230913T180959Z
UID:1497-1695497400-1695502800@knac1853.org
SUMMARY:Ben Miller Science Comedy Show
DESCRIPTION:A show that’s equal measures hilarious\, educational and deeply personal. NYC based scientist turned stand-up comedian Ben Miller takes you on a journey that explores everything from milk to thermodynamics with a wit and humor that makes these topics both approachable and delightful. And you probably like that sort of thing\, nerd. \nCome see this show in Kalamazoo after its sold-out run at the 2022 Edinburgh Fringe Festival. \nBen Miller is an NYC based comedian who has been working for the past 6 years. In that time\, he has performed at all the top clubs in the city such as Broadway Comedy Club\, Stand Up NY\, Carolines\, and The Stand. In addition\, he has performed in the New York Comedy Festival and Boston Comedy Festival. He is currently ranked as the top roast battler in NYC. He has a degree in Materials Science and Engineering\, worked on a science bus\, 3D printed cookies and has diffused a few bar fights while on stage. In 2023\, he was an Artist in Residence at Hawai’i Volcanoes National Park\, the first ever stand-up comedian selected by the National Parks Arts Foundation. His jokes are sharp and self-deprecating\, and he was once called “one of NYC’s best pound-for-pound joke writers” which isn’t saying much considering how little he weighs.
URL:https://knac1853.org/event/ben-miller-science-comedy-show/
LOCATION:Crawlspace Comedy Theatre @ KNAC\, 315 W. Michigan Ave\, Kalamazoo\, MI\, 49007\, United States
END:VEVENT
BEGIN:VEVENT
DTSTART;TZID=America/Detroit:20230922T193000
DTEND;TZID=America/Detroit:20230922T213000
DTSTAMP:20260419T114335
CREATED:20230913T180157Z
LAST-MODIFIED:20230913T180750Z
UID:1495-1695411000-1695418200@knac1853.org
SUMMARY:Slaptail Comedy Show
DESCRIPTION:
URL:https://knac1853.org/event/slaptail-comedy-show/
LOCATION:Crawlspace Comedy Theatre @ KNAC\, 315 W. Michigan Ave\, Kalamazoo\, MI\, 49007\, United States
END:VEVENT
BEGIN:VEVENT
DTSTART;TZID=America/Detroit:20230919T183000
DTEND;TZID=America/Detroit:20230919T203000
DTSTAMP:20260419T114335
CREATED:20230714T160820Z
LAST-MODIFIED:20230714T160820Z
UID:1452-1695148200-1695155400@knac1853.org
SUMMARY:Beth Keller Presents:  Introduction to Parenting with Positive Discipline (6 week course)
DESCRIPTION:
URL:https://knac1853.org/event/beth-keller-presents-introduction-to-parenting-with-positive-discipline-6-week-course/
LOCATION:Kalamazoo Nonprofit Advocacy Coalition\, 315 W. Michigan Avenue\, Kalamazoo\, MI\, 49007\, United States
END:VEVENT
BEGIN:VEVENT
DTSTART;TZID=America/Detroit:20230917T180000
DTEND;TZID=America/Detroit:20230917T200000
DTSTAMP:20260419T114335
CREATED:20230714T151638Z
LAST-MODIFIED:20230714T151638Z
UID:1413-1694973600-1694980800@knac1853.org
SUMMARY:Theatre Kalamazoo Citywide Cast Party
DESCRIPTION:
URL:https://knac1853.org/event/theatre-kalamazoo-citywide-cast-party/
LOCATION:Crawlspace Comedy Theatre @ KNAC\, 315 W. Michigan Ave\, Kalamazoo\, MI\, 49007\, United States
END:VEVENT
BEGIN:VEVENT
DTSTART;TZID=America/Detroit:20230916T193000
DTEND;TZID=America/Detroit:20230916T210000
DTSTAMP:20260419T114335
CREATED:20230913T175806Z
LAST-MODIFIED:20230913T175806Z
UID:1492-1694892600-1694898000@knac1853.org
SUMMARY:Crawlspace Comedy Theatre Reopening
DESCRIPTION:
URL:https://knac1853.org/event/crawlspace-comedy-theatre-reopening-2/
LOCATION:Crawlspace Comedy Theatre @ KNAC\, 315 W. Michigan Ave\, Kalamazoo\, MI\, 49007\, United States
END:VEVENT
BEGIN:VEVENT
DTSTART;TZID=America/Detroit:20230915T193000
DTEND;TZID=America/Detroit:20230915T210000
DTSTAMP:20260419T114335
CREATED:20230913T175601Z
LAST-MODIFIED:20230913T175601Z
UID:1490-1694806200-1694811600@knac1853.org
SUMMARY:Crawlspace Comedy Theatre Reopening
DESCRIPTION:
URL:https://knac1853.org/event/crawlspace-comedy-theatre-reopening/
LOCATION:Crawlspace Comedy Theatre @ KNAC\, 315 W. Michigan Ave\, Kalamazoo\, MI\, 49007\, United States
END:VEVENT
BEGIN:VEVENT
DTSTART;TZID=America/Detroit:20230915T193000
DTEND;TZID=America/Detroit:20230915T210000
DTSTAMP:20260419T114335
CREATED:20230714T152258Z
LAST-MODIFIED:20230714T152258Z
UID:1419-1694806200-1694811600@knac1853.org
SUMMARY:Crawlspace Comedy Theatre Presents:  Ben Miller Stand-Up Science
DESCRIPTION:Crawlspace Comedy Theatre Presents:  Ben Miller Stand-Up Science\nA show that’s equal measures hilarious\, educational and deeply personal. NYC based scientist turned stand-up comedian Ben Miller takes you on a journey that explores everything from milk to thermodynamics with a wit and humor that makes these topics both approachable and delightful. And you probably like that sort of thing\, nerd. \nCome see this show in Kalamazoo after its sold-out run at the 2022 Edinburgh Fringe Festival. \nBen Miller is an NYC based comedian who has been working for the past 6 years. In that time\, he has performed at all the top clubs in the city such as Broadway Comedy Club\, Stand Up NY\, Carolines\, and The Stand. In addition\, he has performed in the New York Comedy Festival and Boston Comedy Festival. He is currently ranked as the top roast battler in NYC. He has a degree in Materials Science and Engineering\, worked on a science bus\, 3D printed cookies and has diffused a few bar fights while on stage. In 2023\, he was an Artist in Residence at Hawai’i Volcanoes National Park\, the first ever stand-up comedian selected by the National Parks Arts Foundation. His jokes are sharp and self-deprecating\, and he was once called “one of NYC’s best pound-for-pound joke writers” which isn’t saying much considering how little he weighs. \nShow Date: Sept 23rd\nShow Time: 7:30-9:00p\nTickets: $20 general / $15 students \nhttps://benmillercomedy.com \nhttps://instagram.com/thisisbenmiller \n 
URL:https://knac1853.org/event/crawlspace-comedy-theatre-presents-ben-miller-stand-up-science/
LOCATION:Crawlspace Comedy Theatre @ KNAC\, 315 W. Michigan Ave\, Kalamazoo\, MI\, 49007\, United States
END:VEVENT
BEGIN:VEVENT
DTSTART;TZID=America/Detroit:20230912T190000
DTEND;TZID=America/Detroit:20230912T210000
DTSTAMP:20260419T114335
CREATED:20230714T151846Z
LAST-MODIFIED:20230714T151846Z
UID:1417-1694545200-1694552400@knac1853.org
SUMMARY:Bare Backstage Productions:  Quatrefoil Auditions
DESCRIPTION:
URL:https://knac1853.org/event/bare-backstage-productions-quatrefoil-auditions-2/
LOCATION:Crawlspace Comedy Theatre @ KNAC\, 315 W. Michigan Ave\, Kalamazoo\, MI\, 49007\, United States
END:VEVENT
BEGIN:VEVENT
DTSTART;TZID=America/Detroit:20230911T190000
DTEND;TZID=America/Detroit:20230911T210000
DTSTAMP:20260419T114335
CREATED:20230714T151759Z
LAST-MODIFIED:20230714T151759Z
UID:1415-1694458800-1694466000@knac1853.org
SUMMARY:Bare Backstage Productions:  Quatrefoil Auditions
DESCRIPTION:
URL:https://knac1853.org/event/bare-backstage-productions-quatrefoil-auditions/
LOCATION:Crawlspace Comedy Theatre @ KNAC\, 315 W. Michigan Ave\, Kalamazoo\, MI\, 49007\, United States
END:VEVENT
BEGIN:VEVENT
DTSTART;TZID=America/Detroit:20230806T190000
DTEND;TZID=America/Detroit:20230806T210000
DTSTAMP:20260419T114335
CREATED:20230714T151427Z
LAST-MODIFIED:20230714T151427Z
UID:1410-1691348400-1691355600@knac1853.org
SUMMARY:GLAMA Presents\, Iona Fyfe in Concert
DESCRIPTION:GLAMA Presents\, Iona Fyfe in Concert\nOne of Scotland’s finest singers\, Iona Fyfe\, will be sharing her award-winning voice with us. A fierce advocate of the Scots language\, Fyfe performs traditional\, folk\, and pop music arrangements that bring her roots to life.\nShe will perform a two-hour concert at The Crawlspace Theatre on August 6th\, from 7 pm-9 pm. Sponsored by GLAMA\, The Great Lakes Acoustic Music Association.
URL:https://knac1853.org/event/glama-presents-iona-fyfe-in-concert/
LOCATION:Crawlspace Comedy Theatre @ KNAC\, 315 W. Michigan Ave\, Kalamazoo\, MI\, 49007\, United States
END:VEVENT
BEGIN:VEVENT
DTSTART;TZID=America/Detroit:20230718T173000
DTEND;TZID=America/Detroit:20230718T190000
DTSTAMP:20260419T114335
CREATED:20230714T145053Z
LAST-MODIFIED:20230714T145053Z
UID:1404-1689701400-1689706800@knac1853.org
SUMMARY:Arts Council of Greater Kalamazoo Artist Happy Hour
DESCRIPTION:Artist Happy Hour – Creating Space at the Kalamazoo Non-Profit Advocacy Coalition\nHaving a safe\, accessible\, and collaborative space is paramount to the creativity\, productivity\, and overall success of working artists. Artists are often required to create space for themselves\, both physically and mentally. We’ll chat with our panelists about the physical spaces in Kalamazoo and how to create space\, take up space as artists\, and give ourselves space to rest and recover. Arts Council Members\, Artists\, Organizations\, and Space-Makers will be able to connect with each other directly. \nThe panelists for this discussion are Dann Sytsma\, Board President of the KNAC\, Yolonda Lavender\, founder of Soul Artistry LLC and The Space\, and Gabriel Giron\, Executive Director of Speak It Forward\, Inc. This one-of-a-kind event will occur at the Crawlspace Comedy Theatre\, located in the Kalamazoo Non-Profit Advocacy Coalition Building in downtown Kalamazoo at 315 W Michigan Ave\, Kalamazoo\, MI 49007. Complimentary food and drinks are provided. The event is free to attend\, but registration is required. \n\n  \n 
URL:https://knac1853.org/event/arts-council-of-greater-kalamazoo-artist-happy-hour/
LOCATION:Crawlspace Comedy Theatre @ KNAC\, 315 W. Michigan Ave\, Kalamazoo\, MI\, 49007\, United States
END:VEVENT
BEGIN:VEVENT
DTSTART;TZID=America/Detroit:20230601T193000
DTEND;TZID=America/Detroit:20230601T213000
DTSTAMP:20260419T114335
CREATED:20230427T215806Z
LAST-MODIFIED:20230427T215806Z
UID:1329-1685647800-1685655000@knac1853.org
SUMMARY:Crawlspace Comedy Theatre Presents:  Mike Cotayo
DESCRIPTION:
URL:https://knac1853.org/event/crawlspace-comedy-theatre-presents-mike-cotayo/
LOCATION:Crawlspace Comedy Theatre @ KNAC\, 315 W. Michigan Ave\, Kalamazoo\, MI\, 49007\, United States
END:VEVENT
BEGIN:VEVENT
DTSTART;TZID=America/Detroit:20230601T183000
DTEND;TZID=America/Detroit:20230601T200000
DTSTAMP:20260419T114335
CREATED:20230427T201627Z
LAST-MODIFIED:20230427T201627Z
UID:1306-1685644200-1685649600@knac1853.org
SUMMARY:Parenting with Positive Discipline
DESCRIPTION:
URL:https://knac1853.org/event/parenting-with-positive-discipline-6/
LOCATION:Kalamazoo Nonprofit Advocacy Coalition\, 315 W. Michigan Avenue\, Kalamazoo\, MI\, 49007\, United States
END:VEVENT
BEGIN:VEVENT
DTSTART;TZID=America/Detroit:20230531T153000
DTEND;TZID=America/Detroit:20230531T203000
DTSTAMP:20260419T114335
CREATED:20230428T145138Z
LAST-MODIFIED:20230428T145138Z
UID:1338-1685547000-1685565000@knac1853.org
SUMMARY:The City of Kalamazoo Presents:  Historic Preservation Awards of Merit
DESCRIPTION:
URL:https://knac1853.org/event/the-city-of-kalamazoo-presents-historic-preservation-awards-of-merit/
LOCATION:Crawlspace Comedy Theatre @ KNAC\, 315 W. Michigan Ave\, Kalamazoo\, MI\, 49007\, United States
END:VEVENT
BEGIN:VEVENT
DTSTART;TZID=America/Detroit:20230527T160000
DTEND;TZID=America/Detroit:20230527T213000
DTSTAMP:20260419T114335
CREATED:20230428T131508Z
LAST-MODIFIED:20230428T131751Z
UID:1332-1685203200-1685223000@knac1853.org
SUMMARY:GLAMA Presents:  Masterclass & Concert with Jen Sygit
DESCRIPTION:Sometimes traditional\, sometimes contemporary\, always imbued with a raw honesty\, Lansing based Independent Music Award winning songwriter Jen Sygit wields a rare and powerful talent that seems equally comfortable performing ethereal folk tunes\, crooning sultry swing numbers or soulfully belting gritty alt country ballads.  An accomplished multi-instrumentalist who isn’t afraid to test boundaries and cross genres\, Jen’s eclectic musical style draws the listener in and holds them captivated.  Her poignant lyrics tinged with a delicate melancholy\, reveal an oft-overlooked beauty to life’s mundane struggles while offering the occasional glimpse into the plight of a modern day troubadour. \n  \n\n\n\nJEN SYGIT ONLINE \nWEBSITE: jensygit.com \nFACEBOOK: facebook.com/jen.sygit \nFACEBOOK FAN PAGE: @Sygvicious \nTWITTER: @Sygvicious \nINSTAGRAM: @Sygvicious \nEMAIL: sygvicious@gmail.com
URL:https://knac1853.org/event/glama-presents-masterclass-concert-with-jen-sygit/
LOCATION:Crawlspace Comedy Theatre @ KNAC\, 315 W. Michigan Ave\, Kalamazoo\, MI\, 49007\, United States
END:VEVENT
END:VCALENDAR