BEGIN:VCALENDAR
VERSION:2.0
PRODID:-//Kalamazoo Nonprofit Advocacy Coalition - ECPv6.15.20//NONSGML v1.0//EN
CALSCALE:GREGORIAN
METHOD:PUBLISH
X-ORIGINAL-URL:https://knac1853.org
X-WR-CALDESC:Events for Kalamazoo Nonprofit Advocacy Coalition
REFRESH-INTERVAL;VALUE=DURATION:PT1H
X-Robots-Tag:noindex
X-PUBLISHED-TTL:PT1H
BEGIN:VTIMEZONE
TZID:America/Detroit
BEGIN:DAYLIGHT
TZOFFSETFROM:-0500
TZOFFSETTO:-0400
TZNAME:EDT
DTSTART:20220313T070000
END:DAYLIGHT
BEGIN:STANDARD
TZOFFSETFROM:-0400
TZOFFSETTO:-0500
TZNAME:EST
DTSTART:20221106T060000
END:STANDARD
BEGIN:DAYLIGHT
TZOFFSETFROM:-0500
TZOFFSETTO:-0400
TZNAME:EDT
DTSTART:20230312T070000
END:DAYLIGHT
BEGIN:STANDARD
TZOFFSETFROM:-0400
TZOFFSETTO:-0500
TZNAME:EST
DTSTART:20231105T060000
END:STANDARD
BEGIN:DAYLIGHT
TZOFFSETFROM:-0500
TZOFFSETTO:-0400
TZNAME:EDT
DTSTART:20240310T070000
END:DAYLIGHT
BEGIN:STANDARD
TZOFFSETFROM:-0400
TZOFFSETTO:-0500
TZNAME:EST
DTSTART:20241103T060000
END:STANDARD
END:VTIMEZONE
BEGIN:VEVENT
DTSTART;TZID=America/Detroit:20230806T190000
DTEND;TZID=America/Detroit:20230806T210000
DTSTAMP:20260419T154748
CREATED:20230714T151427Z
LAST-MODIFIED:20230714T151427Z
UID:1410-1691348400-1691355600@knac1853.org
SUMMARY:GLAMA Presents\, Iona Fyfe in Concert
DESCRIPTION:GLAMA Presents\, Iona Fyfe in Concert\nOne of Scotland’s finest singers\, Iona Fyfe\, will be sharing her award-winning voice with us. A fierce advocate of the Scots language\, Fyfe performs traditional\, folk\, and pop music arrangements that bring her roots to life.\nShe will perform a two-hour concert at The Crawlspace Theatre on August 6th\, from 7 pm-9 pm. Sponsored by GLAMA\, The Great Lakes Acoustic Music Association.
URL:https://knac1853.org/event/glama-presents-iona-fyfe-in-concert/
LOCATION:Crawlspace Comedy Theatre @ KNAC\, 315 W. Michigan Ave\, Kalamazoo\, MI\, 49007\, United States
END:VEVENT
BEGIN:VEVENT
DTSTART;TZID=America/Detroit:20230718T173000
DTEND;TZID=America/Detroit:20230718T190000
DTSTAMP:20260419T154748
CREATED:20230714T145053Z
LAST-MODIFIED:20230714T145053Z
UID:1404-1689701400-1689706800@knac1853.org
SUMMARY:Arts Council of Greater Kalamazoo Artist Happy Hour
DESCRIPTION:Artist Happy Hour – Creating Space at the Kalamazoo Non-Profit Advocacy Coalition\nHaving a safe\, accessible\, and collaborative space is paramount to the creativity\, productivity\, and overall success of working artists. Artists are often required to create space for themselves\, both physically and mentally. We’ll chat with our panelists about the physical spaces in Kalamazoo and how to create space\, take up space as artists\, and give ourselves space to rest and recover. Arts Council Members\, Artists\, Organizations\, and Space-Makers will be able to connect with each other directly. \nThe panelists for this discussion are Dann Sytsma\, Board President of the KNAC\, Yolonda Lavender\, founder of Soul Artistry LLC and The Space\, and Gabriel Giron\, Executive Director of Speak It Forward\, Inc. This one-of-a-kind event will occur at the Crawlspace Comedy Theatre\, located in the Kalamazoo Non-Profit Advocacy Coalition Building in downtown Kalamazoo at 315 W Michigan Ave\, Kalamazoo\, MI 49007. Complimentary food and drinks are provided. The event is free to attend\, but registration is required. \n\n  \n 
URL:https://knac1853.org/event/arts-council-of-greater-kalamazoo-artist-happy-hour/
LOCATION:Crawlspace Comedy Theatre @ KNAC\, 315 W. Michigan Ave\, Kalamazoo\, MI\, 49007\, United States
END:VEVENT
BEGIN:VEVENT
DTSTART;TZID=America/Detroit:20230601T193000
DTEND;TZID=America/Detroit:20230601T213000
DTSTAMP:20260419T154748
CREATED:20230427T215806Z
LAST-MODIFIED:20230427T215806Z
UID:1329-1685647800-1685655000@knac1853.org
SUMMARY:Crawlspace Comedy Theatre Presents:  Mike Cotayo
DESCRIPTION:
URL:https://knac1853.org/event/crawlspace-comedy-theatre-presents-mike-cotayo/
LOCATION:Crawlspace Comedy Theatre @ KNAC\, 315 W. Michigan Ave\, Kalamazoo\, MI\, 49007\, United States
END:VEVENT
BEGIN:VEVENT
DTSTART;TZID=America/Detroit:20230601T183000
DTEND;TZID=America/Detroit:20230601T200000
DTSTAMP:20260419T154748
CREATED:20230427T201627Z
LAST-MODIFIED:20230427T201627Z
UID:1306-1685644200-1685649600@knac1853.org
SUMMARY:Parenting with Positive Discipline
DESCRIPTION:
URL:https://knac1853.org/event/parenting-with-positive-discipline-6/
LOCATION:Kalamazoo Nonprofit Advocacy Coalition\, 315 W. Michigan Avenue\, Kalamazoo\, MI\, 49007\, United States
END:VEVENT
BEGIN:VEVENT
DTSTART;TZID=America/Detroit:20230531T153000
DTEND;TZID=America/Detroit:20230531T203000
DTSTAMP:20260419T154748
CREATED:20230428T145138Z
LAST-MODIFIED:20230428T145138Z
UID:1338-1685547000-1685565000@knac1853.org
SUMMARY:The City of Kalamazoo Presents:  Historic Preservation Awards of Merit
DESCRIPTION:
URL:https://knac1853.org/event/the-city-of-kalamazoo-presents-historic-preservation-awards-of-merit/
LOCATION:Crawlspace Comedy Theatre @ KNAC\, 315 W. Michigan Ave\, Kalamazoo\, MI\, 49007\, United States
END:VEVENT
BEGIN:VEVENT
DTSTART;TZID=America/Detroit:20230527T160000
DTEND;TZID=America/Detroit:20230527T213000
DTSTAMP:20260419T154748
CREATED:20230428T131508Z
LAST-MODIFIED:20230428T131751Z
UID:1332-1685203200-1685223000@knac1853.org
SUMMARY:GLAMA Presents:  Masterclass & Concert with Jen Sygit
DESCRIPTION:Sometimes traditional\, sometimes contemporary\, always imbued with a raw honesty\, Lansing based Independent Music Award winning songwriter Jen Sygit wields a rare and powerful talent that seems equally comfortable performing ethereal folk tunes\, crooning sultry swing numbers or soulfully belting gritty alt country ballads.  An accomplished multi-instrumentalist who isn’t afraid to test boundaries and cross genres\, Jen’s eclectic musical style draws the listener in and holds them captivated.  Her poignant lyrics tinged with a delicate melancholy\, reveal an oft-overlooked beauty to life’s mundane struggles while offering the occasional glimpse into the plight of a modern day troubadour. \n  \n\n\n\nJEN SYGIT ONLINE \nWEBSITE: jensygit.com \nFACEBOOK: facebook.com/jen.sygit \nFACEBOOK FAN PAGE: @Sygvicious \nTWITTER: @Sygvicious \nINSTAGRAM: @Sygvicious \nEMAIL: sygvicious@gmail.com
URL:https://knac1853.org/event/glama-presents-masterclass-concert-with-jen-sygit/
LOCATION:Crawlspace Comedy Theatre @ KNAC\, 315 W. Michigan Ave\, Kalamazoo\, MI\, 49007\, United States
END:VEVENT
BEGIN:VEVENT
DTSTART;TZID=America/Detroit:20230526T193000
DTEND;TZID=America/Detroit:20230526T213000
DTSTAMP:20260419T154748
CREATED:20230427T210730Z
LAST-MODIFIED:20230427T210730Z
UID:1323-1685129400-1685136600@knac1853.org
SUMMARY:Matthew Fries Trio w/ Special Guest Emily Braden
DESCRIPTION:
URL:https://knac1853.org/event/matthew-fries-trio-w-special-guest-emily-braden/
LOCATION:Crawlspace Comedy Theatre @ KNAC\, 315 W. Michigan Ave\, Kalamazoo\, MI\, 49007\, United States
END:VEVENT
BEGIN:VEVENT
DTSTART;TZID=America/Detroit:20230525T183000
DTEND;TZID=America/Detroit:20230525T200000
DTSTAMP:20260419T154748
CREATED:20230427T201533Z
LAST-MODIFIED:20230427T201533Z
UID:1304-1685039400-1685044800@knac1853.org
SUMMARY:Parenting with Positive Discipline
DESCRIPTION:
URL:https://knac1853.org/event/parenting-with-positive-discipline-5/
LOCATION:Kalamazoo Nonprofit Advocacy Coalition\, 315 W. Michigan Avenue\, Kalamazoo\, MI\, 49007\, United States
END:VEVENT
BEGIN:VEVENT
DTSTART;TZID=America/Detroit:20230518T183000
DTEND;TZID=America/Detroit:20230518T200000
DTSTAMP:20260419T154748
CREATED:20230427T201447Z
LAST-MODIFIED:20230427T201447Z
UID:1302-1684434600-1684440000@knac1853.org
SUMMARY:Parenting with Positive Discipline
DESCRIPTION:
URL:https://knac1853.org/event/parenting-with-positive-discipline-4/
LOCATION:Kalamazoo Nonprofit Advocacy Coalition\, 315 W. Michigan Avenue\, Kalamazoo\, MI\, 49007\, United States
END:VEVENT
BEGIN:VEVENT
DTSTART;TZID=America/Detroit:20230513T180000
DTEND;TZID=America/Detroit:20230513T190000
DTSTAMP:20260419T154748
CREATED:20230427T210307Z
LAST-MODIFIED:20230512T203639Z
UID:1321-1684000800-1684004400@knac1853.org
SUMMARY:All Ears Theatre Presents:  The Strange Case of Jekyll & Hyde
DESCRIPTION:
URL:https://knac1853.org/event/all-ears-theatre-presents-wmu-student-production/
LOCATION:Kalamazoo Nonprofit Advocacy Coalition\, 315 W. Michigan Avenue\, Kalamazoo\, MI\, 49007\, United States
END:VEVENT
BEGIN:VEVENT
DTSTART;TZID=America/Detroit:20230513T130000
DTEND;TZID=America/Detroit:20230513T140000
DTSTAMP:20260419T154748
CREATED:20230427T210150Z
LAST-MODIFIED:20230427T210452Z
UID:1319-1683982800-1683986400@knac1853.org
SUMMARY:Tye Chua Dance Presents:  The Nightingale
DESCRIPTION:
URL:https://knac1853.org/event/tye-chua-dance-presents-the-nightingale-2/
LOCATION:Kalamazoo Nonprofit Advocacy Coalition\, 315 W. Michigan Avenue\, Kalamazoo\, MI\, 49007\, United States
END:VEVENT
BEGIN:VEVENT
DTSTART;TZID=America/Detroit:20230512T180000
DTEND;TZID=America/Detroit:20230512T190000
DTSTAMP:20260419T154748
CREATED:20230427T205949Z
LAST-MODIFIED:20230427T210517Z
UID:1316-1683914400-1683918000@knac1853.org
SUMMARY:Tye Chua Dance Presents:  The Nightingale
DESCRIPTION:
URL:https://knac1853.org/event/tye-chua-dance-presents-the-nightingale/
LOCATION:Kalamazoo Nonprofit Advocacy Coalition\, 315 W. Michigan Avenue\, Kalamazoo\, MI\, 49007\, United States
END:VEVENT
BEGIN:VEVENT
DTSTART;TZID=America/Detroit:20230511T183000
DTEND;TZID=America/Detroit:20230511T200000
DTSTAMP:20260419T154748
CREATED:20230427T201358Z
LAST-MODIFIED:20230427T201358Z
UID:1300-1683829800-1683835200@knac1853.org
SUMMARY:Parenting with Positive Discipline
DESCRIPTION:
URL:https://knac1853.org/event/parenting-with-positive-discipline-3/
LOCATION:Kalamazoo Nonprofit Advocacy Coalition\, 315 W. Michigan Avenue\, Kalamazoo\, MI\, 49007\, United States
END:VEVENT
BEGIN:VEVENT
DTSTART;TZID=America/Detroit:20230504T183000
DTEND;TZID=America/Detroit:20230504T200000
DTSTAMP:20260419T154748
CREATED:20230427T201249Z
LAST-MODIFIED:20230427T201249Z
UID:1297-1683225000-1683230400@knac1853.org
SUMMARY:Parenting with Positive Discipline
DESCRIPTION:
URL:https://knac1853.org/event/parenting-with-positive-discipline-2/
LOCATION:Kalamazoo Nonprofit Advocacy Coalition\, 315 W. Michigan Avenue\, Kalamazoo\, MI\, 49007\, United States
END:VEVENT
BEGIN:VEVENT
DTSTART;TZID=America/Detroit:20230504T153000
DTEND;TZID=America/Detroit:20230504T180000
DTSTAMP:20260419T154748
CREATED:20230427T204703Z
LAST-MODIFIED:20230427T204703Z
UID:1313-1683214200-1683223200@knac1853.org
SUMMARY:Exciting News!  Press Conference\, Free Concert\, Reception & Building Tours
DESCRIPTION:The KNAC Capital Campaign Cabinet is thrilled to share major announcements regarding the transformation of the historic First Baptist Church building into a performing arts center and an entrepreneurial incubator.  Following our important announcements\, enjoy a free concert in KNAC’s exquisite performance hall\, featuring some of Kalamazoo’s finest musical talent.  A reception will directly follow the performance. \nPress Conference / 3:30pm \n\nJeff K. Ross\, Campaign Co-Chair\nDann Sytsma\, KNAC Board President\nStatements from Representative Rogers and Senator McCann that will be read by Dann Sytsma\nSharon Ferraro\, Historic Preservationist and KNAC Board Member\nQianna Decker\, City Commissioner and KNAC Board Member\n\nConcert Performances / 4:15pm \n\nBarry Ross\, KSO Concertmaster Emeritus:  Violin\nAlexander Bosak\, Studio of Annie Leong:  Piano\nKemar Williams\, WMU School of Theatre & Dance:  Music Theatre Performance\nMarcell Whitfield\, WMU School of Music:  Vocal Performance from the Studio of Rhea Olivacce\nIvan Tai\, The Crescendo Music Academy:  Violin with JJ Treadway:  Piano Accompanist\nCindy Hunter:  Piano Accompanist\n\nEvent Reception / 5:00pm \n\nBuilding Tours will be available by KNAC Staff\n\n 
URL:https://knac1853.org/event/exciting-news-press-conference-free-concert-reception-building-tours/
LOCATION:Kalamazoo Nonprofit Advocacy Coalition\, 315 W. Michigan Avenue\, Kalamazoo\, MI\, 49007\, United States
ORGANIZER;CN="KNAC":MAILTO:buildingmanager@knac1853.org
END:VEVENT
BEGIN:VEVENT
DTSTART;TZID=America/Detroit:20230430T190000
DTEND;TZID=America/Detroit:20230430T213000
DTSTAMP:20260419T154748
CREATED:20230427T202933Z
LAST-MODIFIED:20230427T202933Z
UID:1310-1682881200-1682890200@knac1853.org
SUMMARY:Edison Jazz Fest\, WMU Jazz and Kzoo Jazz Presents: International Jazz Day
DESCRIPTION:
URL:https://knac1853.org/event/edison-jazz-fest-wmu-jazz-and-kzoo-jazz-presents-international-jazz-day/
LOCATION:Crawlspace Comedy Theatre @ KNAC\, 315 W. Michigan Ave\, Kalamazoo\, MI\, 49007\, United States
END:VEVENT
BEGIN:VEVENT
DTSTART;TZID=America/Detroit:20230429T180000
DTEND;TZID=America/Detroit:20230429T190000
DTSTAMP:20260419T154748
CREATED:20230427T202055Z
LAST-MODIFIED:20230427T202055Z
UID:1308-1682791200-1682794800@knac1853.org
SUMMARY:All Ears Theatre Presents The Bird Who Made Milk
DESCRIPTION:
URL:https://knac1853.org/event/all-ears-theatre-presents-the-bird-who-made-milk/
LOCATION:Kalamazoo Nonprofit Advocacy Coalition\, 315 W. Michigan Avenue\, Kalamazoo\, MI\, 49007\, United States
ORGANIZER;CN="All Ears Theatre":MAILTO:laura@allearstheatre.org
END:VEVENT
BEGIN:VEVENT
DTSTART;TZID=America/Detroit:20230427T183000
DTEND;TZID=America/Detroit:20230427T200000
DTSTAMP:20260419T154748
CREATED:20230427T200940Z
LAST-MODIFIED:20230427T200940Z
UID:1295-1682620200-1682625600@knac1853.org
SUMMARY:Parenting with Positive Discipline
DESCRIPTION:
URL:https://knac1853.org/event/parenting-with-positive-discipline/
LOCATION:Kalamazoo Nonprofit Advocacy Coalition\, 315 W. Michigan Avenue\, Kalamazoo\, MI\, 49007\, United States
END:VEVENT
BEGIN:VEVENT
DTSTART;TZID=America/Detroit:20230307T190000
DTEND;TZID=America/Detroit:20230307T210000
DTSTAMP:20260419T154748
CREATED:20230208T182251Z
LAST-MODIFIED:20230208T182251Z
UID:1241-1678215600-1678222800@knac1853.org
SUMMARY:All Ears Theatre Auditions: The Bird Who Made Milk / WMU Student Written Production
DESCRIPTION:
URL:https://knac1853.org/event/all-ears-theatre-auditions-the-bird-who-made-milk-wmu-student-written-production-2/
LOCATION:Kalamazoo Nonprofit Advocacy Coalition\, 315 W. Michigan Avenue\, Kalamazoo\, MI\, 49007\, United States
ORGANIZER;CN="All Ears Theatre":MAILTO:laura@allearstheatre.org
END:VEVENT
BEGIN:VEVENT
DTSTART;TZID=America/Detroit:20230306T190000
DTEND;TZID=America/Detroit:20230306T210000
DTSTAMP:20260419T154748
CREATED:20230208T182030Z
LAST-MODIFIED:20230208T182030Z
UID:1237-1678129200-1678136400@knac1853.org
SUMMARY:All Ears Theatre Auditions: The Bird Who Made Milk / WMU Student Written Production
DESCRIPTION:
URL:https://knac1853.org/event/all-ears-theatre-auditions-the-bird-who-made-milk-wmu-student-written-production/
LOCATION:Kalamazoo Nonprofit Advocacy Coalition\, 315 W. Michigan Avenue\, Kalamazoo\, MI\, 49007\, United States
ORGANIZER;CN="All Ears Theatre":MAILTO:laura@allearstheatre.org
END:VEVENT
BEGIN:VEVENT
DTSTART;TZID=America/Detroit:20230215T140000
DTEND;TZID=America/Detroit:20230215T170000
DTSTAMP:20260419T154748
CREATED:20230208T181511Z
LAST-MODIFIED:20230208T181511Z
UID:1235-1676469600-1676480400@knac1853.org
SUMMARY:Farmers Alley: Rent Auditions
DESCRIPTION:
URL:https://knac1853.org/event/farmers-alley-rent-auditions-2/
LOCATION:Kalamazoo Nonprofit Advocacy Coalition\, 315 W. Michigan Avenue\, Kalamazoo\, MI\, 49007\, United States
ORGANIZER;CN="Farmers Alley Theatre":MAILTO:info@farmersalleytheatre.com
END:VEVENT
BEGIN:VEVENT
DTSTART;TZID=America/Detroit:20230214T173000
DTEND;TZID=America/Detroit:20230214T220000
DTSTAMP:20260419T154748
CREATED:20230208T181304Z
LAST-MODIFIED:20230208T181355Z
UID:1231-1676395800-1676412000@knac1853.org
SUMMARY:Farmers Alley: Rent Auditions
DESCRIPTION:
URL:https://knac1853.org/event/farmers-alley-rent-auditions/
LOCATION:Kalamazoo Nonprofit Advocacy Coalition\, 315 W. Michigan Avenue\, Kalamazoo\, MI\, 49007\, United States
ORGANIZER;CN="Farmers Alley Theatre":MAILTO:info@farmersalleytheatre.com
END:VEVENT
BEGIN:VEVENT
DTSTART;TZID=America/Detroit:20230118T170000
DTEND;TZID=America/Detroit:20230118T200000
DTSTAMP:20260419T154748
CREATED:20230110T192814Z
LAST-MODIFIED:20230110T192814Z
UID:1195-1674061200-1674072000@knac1853.org
SUMMARY:Orchestra Rouh Concert
DESCRIPTION:
URL:https://knac1853.org/event/orchestra-rouh-concert/
LOCATION:Kalamazoo Nonprofit Advocacy Coalition\, 315 W. Michigan Avenue\, Kalamazoo\, MI\, 49007\, United States
ATTACH;FMTTYPE=image/jpeg:https://knac1853.org/wp-content/uploads/2023/01/orchestra-rouh.jpeg
END:VEVENT
END:VCALENDAR